BEGIN:VCALENDAR
VERSION:2.0
PRODID:-//Rehabilitation Engineering Laboratory - ECPv6.3.3//NONSGML v1.0//EN
CALSCALE:GREGORIAN
METHOD:PUBLISH
X-ORIGINAL-URL:https://reltoronto.ca
X-WR-CALDESC:Events for Rehabilitation Engineering Laboratory
REFRESH-INTERVAL;VALUE=DURATION:PT1H
X-Robots-Tag:noindex
X-PUBLISHED-TTL:PT1H
BEGIN:VTIMEZONE
TZID:America/New_York
BEGIN:DAYLIGHT
TZOFFSETFROM:-0500
TZOFFSETTO:-0400
TZNAME:EDT
DTSTART:20200308T070000
END:DAYLIGHT
BEGIN:STANDARD
TZOFFSETFROM:-0400
TZOFFSETTO:-0500
TZNAME:EST
DTSTART:20201101T060000
END:STANDARD
END:VTIMEZONE
BEGIN:VEVENT
DTSTART;TZID=America/New_York:20200611T120000
DTEND;TZID=America/New_York:20200611T130000
DTSTAMP:20260422T041228
CREATED:20200605T124708Z
LAST-MODIFIED:20200606T194942Z
UID:1792-1591876800-1591880400@reltoronto.ca
SUMMARY:Dr. Hardeep Singh - Hitting A Moving Target: Understanding The Complexities Of Falls And Fall Prevention After Spinal Cord Injury
DESCRIPTION:Biography\nHardeep Singh is a Post-doctoral Fellow at the Lunenfeld-Tanenbaum Research Institute-Sinai Health System and The Institute for Better Health-Trillium Health Partner and an occupational therapist by training. Hardeep recently completed her PhD in the SCI Mobility Lab at the Lyndhurst Centre under the supervision of Dr. Kristin Musselman. In her PhD research\, she examined the causes and psychosocial consequences of falls and fall prevention among wheelchair users with spinal cord injury. \nZoom Information\nJoin Zoom Meeting \nhttps://us02web.zoom.us/j/84586475198?pwd=ZU45T1duU3NCVFl2aEd4NktpRXdWUT09 \nMeeting ID: 845 8647 5198 \nPassword: 706925 \nOne tap mobile \n+16473744685\,\,84586475198#\,\,1#\,706925# Canada \n+16475580588\,\,84586475198#\,\,1#\,706925# Canada \n  \nDial by your location \n+1 647 374 4685 Canada \n+1 647 558 0588 Canada
URL:https://reltoronto.ca/index.php/lecture/dr-hardeep-singh-hitting-a-moving-target-understanding-the-complexities-of-falls-and-fall-prevention-after-spinal-cord-injury/
CATEGORIES:Season 11
ATTACH;FMTTYPE=image/png:https://reltoronto.ca/wp-content/uploads/Hardeep-Singh-Headshot.png
END:VEVENT
END:VCALENDAR