BEGIN:VCALENDAR
VERSION:2.0
PRODID:-//Rehabilitation Engineering Laboratory - ECPv6.3.3//NONSGML v1.0//EN
CALSCALE:GREGORIAN
METHOD:PUBLISH
X-ORIGINAL-URL:https://reltoronto.ca
X-WR-CALDESC:Events for Rehabilitation Engineering Laboratory
REFRESH-INTERVAL;VALUE=DURATION:PT1H
X-Robots-Tag:noindex
X-PUBLISHED-TTL:PT1H
BEGIN:VTIMEZONE
TZID:America/New_York
BEGIN:DAYLIGHT
TZOFFSETFROM:-0500
TZOFFSETTO:-0400
TZNAME:EDT
DTSTART:20190310T070000
END:DAYLIGHT
BEGIN:STANDARD
TZOFFSETFROM:-0400
TZOFFSETTO:-0500
TZNAME:EST
DTSTART:20191103T060000
END:STANDARD
END:VTIMEZONE
BEGIN:VEVENT
DTSTART;TZID=America/New_York:20190912T120000
DTEND;TZID=America/New_York:20190912T130000
DTSTAMP:20260422T160929
CREATED:20190904T191811Z
LAST-MODIFIED:20190904T191811Z
UID:1660-1568289600-1568293200@reltoronto.ca
SUMMARY:Dr. Olinda Habib Perez - Falls and Balance Control after Spinal Cord Injury
DESCRIPTION:Abstract\nDr. Olinda Habib Perez will be presenting the initial findings of a 2-year prospective study that examines the causes and consequences of falls in individuals with subacute spinal cord injury. She will also present findings on the balance control of individuals with chronic spinal cord injury. \nBiography\nDr. Olinda Habib Perez completed her B.Sc. in Kinesiology at the University of Ottawa and is a Registered Kinesiologist. She continued her M.Sc. at the University of Ottawa\, which examined the adaptation of infant bouncers in different jolly jumper environments. Olinda joined the SCI-Mobility Lab in late 2017 as a Post-Doctoral Fellow after completing her PhD from the University of Toronto. Her doctoral work focused on understanding inter-limb coordination in balance control and how this was altered in individuals with traumatic brain injury. She has been leading a study that investigates the causes and consequences of falls across the continuum of care in individuals with subacute spinal cord injury\, and has examined the balance control in individuals with chronic spinal cord injury.
URL:https://reltoronto.ca/index.php/lecture/dr-olinda-habib-perez-falls-and-balance-control-after-spinal-cord-injury/
LOCATION:Lyndhurst Center –  Lecture Rooms A & B\, 520 Sutherland Drive\, Toronto\, Ontario\, M4G3V9\, Canada
CATEGORIES:Season 11
ATTACH;FMTTYPE=image/jpeg:https://reltoronto.ca/wp-content/uploads/Olinda-Habib-Perez-Headshot.jpg
END:VEVENT
END:VCALENDAR