BEGIN:VCALENDAR
VERSION:2.0
PRODID:-//Rehabilitation Engineering Laboratory - ECPv6.3.3//NONSGML v1.0//EN
CALSCALE:GREGORIAN
METHOD:PUBLISH
X-ORIGINAL-URL:https://reltoronto.ca
X-WR-CALDESC:Events for Rehabilitation Engineering Laboratory
REFRESH-INTERVAL;VALUE=DURATION:PT1H
X-Robots-Tag:noindex
X-PUBLISHED-TTL:PT1H
BEGIN:VTIMEZONE
TZID:America/New_York
BEGIN:DAYLIGHT
TZOFFSETFROM:-0500
TZOFFSETTO:-0400
TZNAME:EDT
DTSTART:20190310T070000
END:DAYLIGHT
BEGIN:STANDARD
TZOFFSETFROM:-0400
TZOFFSETTO:-0500
TZNAME:EST
DTSTART:20191103T060000
END:STANDARD
END:VTIMEZONE
BEGIN:VEVENT
DTSTART;TZID=America/New_York:20190214T120000
DTEND;TZID=America/New_York:20190214T130000
DTSTAMP:20260423T031104
CREATED:20190212T200038Z
LAST-MODIFIED:20190212T200118Z
UID:1602-1550145600-1550149200@reltoronto.ca
SUMMARY:Dr. Dalton Wolfe\, Stephanie Marrocco & Dr. Deena Lala - Enhanced clinical decision-making for activity-based therapies for persons with SCI
DESCRIPTION:Abstract\nThe Parkwood Program for Rehabilitation Innovations in Mobility Enhancement (PRIME) is a multi-faceted initiative undertaken by the Research 2 Practice (R2P) team at Parkwood Institute. The ultimate objective of PRIME is to develop a clinical decision support system that serves as the basis of a health learning system to support therapists in their decision-making associated with different therapeutic activities to enhance mobility in persons with SCI or ABI. The approach involves systematically characterizing\, implementing and documenting therapeutic activities and then examining the relationship of these activities with outcomes. A variety of analytic techniques will be used to examine these relationships. This process involves taking a very participatory approach that incorporates implementation science along with a complementary approach between practice-based research and clinical research methods. The presentation will share the PRIME journey to date and describe some preliminary findings and benefits to participants and the rehabilitation program. \nAbout the Speakers\nDr. Dalton L. Wolfe\, PhD\nDr. Dalton Wolfe is the leader of the R2P (Research 2 Practice) team at Parkwood Institute that integrates clinical and research efforts to improve care and clinical outcomes. His primary research interest is in the area of knowledge mobilization and best practice implementation across rehabilitation and community settings. As part of the Parkwood Rehabilitation Innovations in Mobility Enhancement (PRIME) initiative he is focused on enhancing clinical decision-making to improve locomotor and other movement-related outcomes with more integration of activity-based therapies such as robotic\, manual and FES-assisted therapies. In addition\, Dalton and colleagues are exploring the use of online technologies and patient-reported outcomes to facilitate self-management skills that enable persons with chronic conditions such as SCI and ABI to prevent and better manage secondary complications. \nPosition: Scientist \nOrganization: Parkwood Institute Research\, Lawson Health Research Institute \nEmail: dwolfe@uwo.ca \nPhone: 519-685-4292 ext 42957 \nMs. Stephanie Marrocco\, MSc\nMs. Stephanie Marrocco is a research coordinator with the R2P team at Parkwood Institute. Ms. Marrocco completed a MSc from Western University examining gait laterality in persons with stroke. She has recently begun a PhD and is interested in better understanding rehabilitation processes associated with persons with neurological impairments. In particular\, Stephanie is interested in examining variations in rehabilitation practice patterns and has developed different analysis and visualization approaches to examine research questions within this area. \nPosition: PhD Student / Coordinator \nOrganization: Western University / Parkwood Institute Research\, Lawson Health Research Institute \nEmail: stephanie.marrocco@sjhc.london.on.ca \nPhone: 519-685-4292 ext 42631 \nDr. Deena Lala\, PT\, PhD\nDr. Deena Lala is a postdoctoral fellow with the Research to Practice (R2P) Team and a Physiotherapist in the Rehab Program at Parkwood Institute. She recently completed the combined PhD/MPT program at Western University in August 2018. She was highly involved in the E-Stim Collaboration Project\, where she examined the difficulties of implementing pressure injury best practices like E-Stim for treating pressure ulcers in community dwelling persons with SCI. Currently\, she is working closely in the PRIME initiative with a key interest in examining the feasibility and value of using wearable sensors (developed in Zurich\, Switzerland) by clinicians and patients with spinal cord injury during inpatient and outpatient rehabilitation. \nPosition: Research Fellow / Staff Physiotherapist \nOrganization: Western University / Parkwood Institute\, SJHC \nEmail: deena.lala@sjhc.london.on.ca \nPhone: 519-685-4292 ext 42078
URL:https://reltoronto.ca/index.php/lecture/dr-dalton-wolfe-stephanie-marrocco-dr-deena-lala-enhanced-clinical-decision-making-for-activity-based-therapies-for-persons-with-sci/
LOCATION:Lyndhurst Center –  Lecture Rooms A & B\, 520 Sutherland Drive\, Toronto\, Ontario\, M4G3V9\, Canada
CATEGORIES:Season 11
ATTACH;FMTTYPE=image/png:https://reltoronto.ca/wp-content/uploads/dalton-wolfe-stephanie-marrocco-deena-lala.png
END:VEVENT
END:VCALENDAR