BEGIN:VCALENDAR
VERSION:2.0
PRODID:-//Rehabilitation Engineering Laboratory - ECPv6.3.3//NONSGML v1.0//EN
CALSCALE:GREGORIAN
METHOD:PUBLISH
X-ORIGINAL-URL:https://reltoronto.ca
X-WR-CALDESC:Events for Rehabilitation Engineering Laboratory
REFRESH-INTERVAL;VALUE=DURATION:PT1H
X-Robots-Tag:noindex
X-PUBLISHED-TTL:PT1H
BEGIN:VTIMEZONE
TZID:America/New_York
BEGIN:DAYLIGHT
TZOFFSETFROM:-0500
TZOFFSETTO:-0400
TZNAME:EDT
DTSTART:20170312T070000
END:DAYLIGHT
BEGIN:STANDARD
TZOFFSETFROM:-0400
TZOFFSETTO:-0500
TZNAME:EST
DTSTART:20171105T060000
END:STANDARD
END:VTIMEZONE
BEGIN:VEVENT
DTSTART;TZID=America/New_York:20170919T120000
DTEND;TZID=America/New_York:20170919T130000
DTSTAMP:20260425T214005
CREATED:20170829T213247Z
LAST-MODIFIED:20170917T203440Z
UID:1002-1505822400-1505826000@reltoronto.ca
SUMMARY:Dr. Thomas Janssen - Activating paralyzed muscle: necessary for optimal health?
DESCRIPTION:Abstract\nIndividuals with a spinal cord injury (SCI) are commonly restricted to perform upper-body exercise\, which\, although beneficial in many ways\, does not necessarily lead to optimal health. Inactivity of the paralyzed muscles can lead to many secondary medical complications\, such as pressure sores\, poor wound healing\, and obesity. Activating paralyzed muscles using electrical stimulation (ES) might therefore be an essential additional tool to maintain optimal health in individuals with SCI. In this presentation\, different ES-induced exercise and activity forms will be described and it will be discussed how they can contribute to promoting health and fitness and  play a role during and after rehabilitation and/or (recreational) sport performance. \nAbout the Speaker –\nIn 1988\, Thomas Janssen received his master’s degree in exercise physiology and functional anatomy from the Faculty of Human Movement Sciences\, VU University in Amsterdam. In 1994\, he received a PhD degree in Human Movement Sciences on Physical Strain and Physical Capacity of Men with Spinal Cord Injuries. Between 1994 and 1998 he was a visiting scientist at and associate director of the Institute for Rehabilitation Research and Medicine\, Wright State University School of Medicine in Dayton\, Ohio\, USA. Upon returning to the Netherlands\, he took an assistant professorship at the VU University\, performing rehabilitation research and teaching classes on exercise physiology and rehabilitation. At the same time\, he started working as research coordinator of the Rehabilitation Center Amsterdam (current name: Reade). His main research interest lies in the field of exercise physiology and biomechanics applied to rehabilitation and exercise. Most profound research subjects are physical capacity\, activity and health of wheelchair users with a spinal cord injury\, electrical stimulation therapy of paralyzed muscles\, and disability sports. Since 2008 he is professor in rehabilitation research at the VU University. He is currently chair of the Amsterdam Rehabilitation Research Center | Reade\, scientifically responsible for the Center for Adapted Sports Amsterdam\, and member of the steering group of the European Research Group in Disability Sports. He has (co-)authored over 140 publications on topics such as exercise and rehabilitation after spinal cord injury.
URL:https://reltoronto.ca/index.php/lecture/activating-paralyzed-muscle-necessary-for-optimal-health/
LOCATION:Toronto Rehab University Center – Basement Lecture Theatre\, 550 University Avenue\, Toronto\, Ontario\, M5G2A2\, Canada
CATEGORIES:Season 11
ATTACH;FMTTYPE=image/png:https://reltoronto.ca/wp-content/uploads/Thomas-Janssen.png
END:VEVENT
END:VCALENDAR