BEGIN:VCALENDAR
VERSION:2.0
PRODID:-//Rehabilitation Engineering Laboratory - ECPv6.3.3//NONSGML v1.0//EN
CALSCALE:GREGORIAN
METHOD:PUBLISH
X-ORIGINAL-URL:https://reltoronto.ca
X-WR-CALDESC:Events for Rehabilitation Engineering Laboratory
REFRESH-INTERVAL;VALUE=DURATION:PT1H
X-Robots-Tag:noindex
X-PUBLISHED-TTL:PT1H
BEGIN:VTIMEZONE
TZID:America/New_York
BEGIN:DAYLIGHT
TZOFFSETFROM:-0500
TZOFFSETTO:-0400
TZNAME:EDT
DTSTART:20190310T070000
END:DAYLIGHT
BEGIN:STANDARD
TZOFFSETFROM:-0400
TZOFFSETTO:-0500
TZNAME:EST
DTSTART:20191103T060000
END:STANDARD
END:VTIMEZONE
BEGIN:VEVENT
DTSTART;TZID=America/New_York:20191212T120000
DTEND;TZID=America/New_York:20191212T130000
DTSTAMP:20260422T093857
CREATED:20190918T170708Z
LAST-MODIFIED:20191205T192725Z
UID:1678-1576152000-1576155600@reltoronto.ca
SUMMARY:Dr. Sara Guilcher\, Lauren Cadel and Amanda Everall  - How can we improve medication management for persons with spinal cord injury/ dysfunction?
DESCRIPTION:Abstract\nPersons with spinal cord injury and dysfunction (SCI/D) often experience multimorbidity and secondary complications. Pharmacological treatments are often used to manage these conditions and complications. Funded by the Craig H. Neilsen Foundation\, we used mixed methods to better understand medication management for persons with spinal cord injury and dysfunction (SCI/D). Using administrative health data\, we described the prevalence and risk factors associated with polypharmacy and opioid use for persons with traumatic spinal cord injuries and non-traumatic spinal cord dysfunction. Using qualitative semi-structured interviews\, we explored the experiences of healthcare and service providers and persons with SCI/D with medication (self-) management. We will discuss the findings and implications for research\, practice/everyday life\, and policy. \nAbout the Speakers\n \nDr. Sara Guilcher is an Assistant Professor at the Leslie Dan Faculty of Pharmacy\, and cross-appointed with the Rehabilitation Sciences Institute (RSI)\, University of Toronto. Dr. Guilcher is also an Adjunct Scientist at the Institute for Clinical Evaluative Sciences\, and an Affiliate Scientist at the Centre for Urban Health Solutions\, Li Ka Shing Knowledge Institute\, St. Michael’s Hospital. As a physical therapist and clinical epidemiologist\, Dr. Guilcher’s research vision is to improve health service delivery and quality of care across the continuum\, specifically for marginalized populations with complex health and social needs. Dr. Guilcher holds a Canadian Institutes of Health Research (CIHR) Embedded Clinician Salary Award working with Health Quality Ontario to optimize transitions of care among persons with complex needs.\nOften using multi-methods (e.g.\, administrative health claims\, qualitative methods\, survey research)\, Dr. Guilcher’s research relates to clinical/social epidemiology\, health equity\, disability and multimorbidity. \n  \n \nLauren Cadel (MSc) is a Research Coordinator at the Leslie Dan Faculty of Pharmacy and a Research Associate at the Institute for Better Health at Trillium Health Partners. In 2019\, Lauren completed her Masters in Pharmaceutical Sciences at the University of Toronto under the supervision of Dr. Sara Guilcher. Her thesis focused on exploring the attitudes\, beliefs and experiences of persons with spinal cord injury/ dysfunction pertaining to the management of prescribed and unprescribed medications. \n  \n \nAmanda Everall (MSc) is a Research Coordinator at the Leslie Dan Faculty of Pharmacy. She completed her Masters in Pharmaceutical Sciences at the University of Toronto in 2018. Her thesis research used a multi-case study approach to describe the community pharmacy enablers (structures and processes) that supported best practice adherence-focused medication review services. Her research resulted in the development of a conceptual definition \n  \n  \n 
URL:https://reltoronto.ca/index.php/lecture/dr-sara-guilcher-university-of-toronto/
LOCATION:Lyndhurst Center –  Lecture Rooms A & B\, 520 Sutherland Drive\, Toronto\, Ontario\, M4G3V9\, Canada
CATEGORIES:Season 11
ATTACH;FMTTYPE=image/jpeg:https://reltoronto.ca/wp-content/uploads/S-Guilcher-e1573233236986.jpg
END:VEVENT
END:VCALENDAR