BEGIN:VCALENDAR
VERSION:2.0
PRODID:-//Rehabilitation Engineering Laboratory - ECPv6.3.3//NONSGML v1.0//EN
CALSCALE:GREGORIAN
METHOD:PUBLISH
X-WR-CALNAME:Rehabilitation Engineering Laboratory
X-ORIGINAL-URL:https://reltoronto.ca
X-WR-CALDESC:Events for Rehabilitation Engineering Laboratory
REFRESH-INTERVAL;VALUE=DURATION:PT1H
X-Robots-Tag:noindex
X-PUBLISHED-TTL:PT1H
BEGIN:VTIMEZONE
TZID:America/New_York
BEGIN:DAYLIGHT
TZOFFSETFROM:-0500
TZOFFSETTO:-0400
TZNAME:EDT
DTSTART:20180311T070000
END:DAYLIGHT
BEGIN:STANDARD
TZOFFSETFROM:-0400
TZOFFSETTO:-0500
TZNAME:EST
DTSTART:20181104T060000
END:STANDARD
END:VTIMEZONE
BEGIN:VEVENT
DTSTART;TZID=America/New_York:20181108T120000
DTEND;TZID=America/New_York:20181108T130000
DTSTAMP:20260423T063524
CREATED:20181105T210041Z
LAST-MODIFIED:20181105T214536Z
UID:1530-1541678400-1541682000@reltoronto.ca
SUMMARY:Matheus Joner Wiest - Traditional electrical stimulation is so 1700s: meet interleaved stimulation
DESCRIPTION:About the Speaker\nWith a BSc in Physical Education and a MSc in Human Movement Sciences\, Dr Wiest focused the initial phases of his career on understanding sports biomechanics and human postural control. During his PhD at the University of Alberta\, his main focus moved towards improving the use of neuromuscular electrical stimulation for rehabilitation and training. His current research interests as a postdoctoral fellow at the Toronto Rehabilitation Institute are related to: \n1) Understanding and improving muscle-bone function and health after spinal cord injury\, and \n2) Improving the quality of rehabilitation care for people living with a spinal cord injury.
URL:https://reltoronto.ca/index.php/lecture/matheus-joner-wiest/
LOCATION:Lyndhurst Center –  Lecture Rooms A & B\, 520 Sutherland Drive\, Toronto\, Ontario\, M4G3V9\, Canada
CATEGORIES:Season 11
ATTACH;FMTTYPE=image/jpeg:https://reltoronto.ca/wp-content/uploads/Photo-MW.jpg
END:VEVENT
END:VCALENDAR