BEGIN:VCALENDAR
VERSION:2.0
PRODID:-//Rehabilitation Engineering Laboratory - ECPv6.3.3//NONSGML v1.0//EN
CALSCALE:GREGORIAN
METHOD:PUBLISH
X-WR-CALNAME:Rehabilitation Engineering Laboratory
X-ORIGINAL-URL:https://reltoronto.ca
X-WR-CALDESC:Events for Rehabilitation Engineering Laboratory
REFRESH-INTERVAL;VALUE=DURATION:PT1H
X-Robots-Tag:noindex
X-PUBLISHED-TTL:PT1H
BEGIN:VTIMEZONE
TZID:America/New_York
BEGIN:DAYLIGHT
TZOFFSETFROM:-0500
TZOFFSETTO:-0400
TZNAME:EDT
DTSTART:20180311T070000
END:DAYLIGHT
BEGIN:STANDARD
TZOFFSETFROM:-0400
TZOFFSETTO:-0500
TZNAME:EST
DTSTART:20181104T060000
END:STANDARD
END:VTIMEZONE
BEGIN:VEVENT
DTSTART;TZID=America/New_York:20180913T120000
DTEND;TZID=America/New_York:20180913T130000
DTSTAMP:20260423T095817
CREATED:20180907T225035Z
LAST-MODIFIED:20180907T225035Z
UID:1501-1536840000-1536843600@reltoronto.ca
SUMMARY:Teresa Valenzano - Respiratory-Swallow Coordination in Spinal Cord Injury
DESCRIPTION:Abstract\nRespiratory-swallow coordination is vital for preventing the aspiration of foreign material into the airway. In healthy adults\, respiration ceases during the expiratory phase of breathing for the duration of the swallow. However\, for individuals with respiratory impairments\, these two systems may become discoordinated\, leading to increased risk of aspiration and related negative sequelae. This lecture will present the mechanics of respiratory-swallow coordination and discuss the implications of this discoordination in the spinal cord injury population. \nAbout the Speaker\nTeresa Valenzano is a practicing speech-language pathologist\, with an interest in swallowing function in neurological disorders. She completed her Doctorate of Philosophy from the Rehabilitation Sciences Institute and Master’s of Health Science from the Department of Speech-Language Pathology at the University of Toronto. Her doctoral work research focused on characterizing the physiology of swallowing in those who have experienced a traumatic spinal cord injury\, and investigating the relationship between respiration and swallowing in this population. Teresa currently works for the Interprofessional Practice Based Research program at St. Michael’s Hospital\, helping bridge the gap between research and clinical practice.
URL:https://reltoronto.ca/index.php/lecture/teresa-valenzano-respiratory-swallow-coordination-in-spinal-cord-injury/
LOCATION:Lyndhurst Center –  Lecture Rooms A & B\, 520 Sutherland Drive\, Toronto\, Ontario\, M4G3V9\, Canada
CATEGORIES:Season 11
ATTACH;FMTTYPE=image/png:https://reltoronto.ca/wp-content/uploads/Teresa-Valenzano_highres-1_RBedits.png
END:VEVENT
END:VCALENDAR