BEGIN:VCALENDAR
VERSION:2.0
PRODID:-//Rehabilitation Engineering Laboratory - ECPv6.3.3//NONSGML v1.0//EN
CALSCALE:GREGORIAN
METHOD:PUBLISH
X-WR-CALNAME:Rehabilitation Engineering Laboratory
X-ORIGINAL-URL:https://reltoronto.ca
X-WR-CALDESC:Events for Rehabilitation Engineering Laboratory
REFRESH-INTERVAL;VALUE=DURATION:PT1H
X-Robots-Tag:noindex
X-PUBLISHED-TTL:PT1H
BEGIN:VTIMEZONE
TZID:America/New_York
BEGIN:DAYLIGHT
TZOFFSETFROM:-0500
TZOFFSETTO:-0400
TZNAME:EDT
DTSTART:20170312T070000
END:DAYLIGHT
BEGIN:STANDARD
TZOFFSETFROM:-0400
TZOFFSETTO:-0500
TZNAME:EST
DTSTART:20171105T060000
END:STANDARD
END:VTIMEZONE
BEGIN:VEVENT
DTSTART;TZID=America/New_York:20171207T120000
DTEND;TZID=America/New_York:20171207T130000
DTSTAMP:20260425T153027
CREATED:20171127T162733Z
LAST-MODIFIED:20171128T014032Z
UID:1254-1512648000-1512651600@reltoronto.ca
SUMMARY:Andres Lozano - A proposal to treat patients with spinal cord injury by stimulating locomotor areas in the brainstem
DESCRIPTION:Abstract\nDisturbances in gait function are characteristic of a number of disorders including Parkinson’s disease and spinal cord injury. The introduction of Deep Brain Stimulation (DBS) has allowed  its examination for its possible role in facilitating gait in patients with gait impairment. We have implanted the brainstem locomotor area in patients with Parkinson’s disease and applied deep brain stimulation to improve certain aspects of gait. There is compelling animal data that the same approach could also be of use in spinal cord injury. The  seminar will  examine the possibility of deep brain stimulation in brainstem locomotor areas to help gait in patients who have had spinal cord injury. \nAbout the Speaker\nDr. Lozano received his MD degree at the University of Ottawa and his neurosurgical training and PhD degree in Neurobiology at McGill. He received post-doctoral training in movement disorders at Queens Square\, London\, UK and in cell and molecular biology in Toronto. He is the Professor and Chairman of Neurosurgery at the University of Toronto  and holds both the RR Tasker Chair in Functional Neurosurgery at the University of Toronto and the Toronto Western Hospital and a Tier 1 Canada Research Chair in Neuroscience.  He has an active laboratory dedicated to the study of neuronal degeneration and regeneration and Functional Neurosurgery. \nDr. Lozano has over 500 publications\, serves on the board of several international organizations and is a founding member of the scientific advisory board of the Michael J. Fox Foundation. He is the most cited neurosurgeon in the world according to Thompson Reuters.  He has received a number of awards including the Olivecrona Medal and the Pioneer in Medicine award\, has been elected a Fellow of the Royal Society of Canada and the Canadian Academy of Health Sciences\, has received the Order of Spain\, has been recognized as an Officer of the Order of Canada. \nHe is best known for his work in Deep Brain Stimulation (DBS). He has been involved in training over one hundred physicians from throughout the world\, with the hope that this will mean better access for patients to neurosurgical treatments to alleviate some of the debilitating effects of Neurological and Psychiatric disorders.
URL:https://reltoronto.ca/index.php/lecture/andres-lozano-a-proposal-to-treat-patients-with-spinal-cord-injury-by-stimulating-locomotor-areas-in-the-brainstem/
LOCATION:Lyndhurst Center – Room B10\, 520 Sutherland Drive\, Room B10\, Toronto\, Ontario\, M4G3V9\, Canada
CATEGORIES:Season 11
ATTACH;FMTTYPE=image/jpeg:https://reltoronto.ca/wp-content/uploads/Lazano.jpg
END:VEVENT
END:VCALENDAR